BEGIN:VCALENDAR
VERSION:2.0
PRODID:-//Tukios.com/
BEGIN:VEVENT
UID:8dea5ef6-3dff-4a30-a0d7-a51c42b68e67@www.williamsmortuary.net
DTSTAMP:20260424T224136Z
DTSTART:20260425T180000Z
DTEND:20260425T220000Z
SUMMARY:Visitation
DESCRIPTION:
URL:https://www.williamsmortuary.net/obituaries/adella-hayes-williams
LOCATION: 725 N 4th St  Colquitt GA 39837
GEO:31.1826157;-84.7255681
END:VEVENT
END:VCALENDAR