BEGIN:VCALENDAR
VERSION:2.0
PRODID:-//Tukios.com/
BEGIN:VEVENT
UID:80c023c8-c1ef-4d3a-8d37-dbb304ea1684@www.williamsmortuary.net
DTSTAMP:20260424T224307Z
DTSTART:20260426T180000Z
DTEND:20260426T190000Z
SUMMARY:Graveside Service
DESCRIPTION:
URL:https://www.williamsmortuary.net/obituaries/adella-hayes-williams
LOCATION:Jonas-Lobe Cemetery 1287 E. Carter St.  Bainbridge GA 39817
GEO:30.9137603;-84.5539953
END:VEVENT
END:VCALENDAR